BEGIN:VCALENDAR
VERSION:2.0
PRODID:-//Tiger Tiger - ECPv6.15.16//NONSGML v1.0//EN
CALSCALE:GREGORIAN
METHOD:PUBLISH
X-ORIGINAL-URL:https://tiger-tiger.com
X-WR-CALDESC:Events for Tiger Tiger
REFRESH-INTERVAL;VALUE=DURATION:PT1H
X-Robots-Tag:noindex
X-PUBLISHED-TTL:PT1H
BEGIN:VTIMEZONE
TZID:America/Phoenix
BEGIN:STANDARD
TZOFFSETFROM:-0700
TZOFFSETTO:-0700
TZNAME:MST
DTSTART:20150101T000000
END:STANDARD
END:VTIMEZONE
BEGIN:VTIMEZONE
TZID:America/Denver
BEGIN:DAYLIGHT
TZOFFSETFROM:-0700
TZOFFSETTO:-0600
TZNAME:MDT
DTSTART:20160313T090000
END:DAYLIGHT
BEGIN:STANDARD
TZOFFSETFROM:-0600
TZOFFSETTO:-0700
TZNAME:MST
DTSTART:20161106T080000
END:STANDARD
BEGIN:DAYLIGHT
TZOFFSETFROM:-0700
TZOFFSETTO:-0600
TZNAME:MDT
DTSTART:20170312T090000
END:DAYLIGHT
BEGIN:STANDARD
TZOFFSETFROM:-0600
TZOFFSETTO:-0700
TZNAME:MST
DTSTART:20171105T080000
END:STANDARD
BEGIN:DAYLIGHT
TZOFFSETFROM:-0700
TZOFFSETTO:-0600
TZNAME:MDT
DTSTART:20180311T090000
END:DAYLIGHT
BEGIN:STANDARD
TZOFFSETFROM:-0600
TZOFFSETTO:-0700
TZNAME:MST
DTSTART:20181104T080000
END:STANDARD
BEGIN:DAYLIGHT
TZOFFSETFROM:-0700
TZOFFSETTO:-0600
TZNAME:MDT
DTSTART:20190310T090000
END:DAYLIGHT
BEGIN:STANDARD
TZOFFSETFROM:-0600
TZOFFSETTO:-0700
TZNAME:MST
DTSTART:20191103T080000
END:STANDARD
BEGIN:DAYLIGHT
TZOFFSETFROM:-0700
TZOFFSETTO:-0600
TZNAME:MDT
DTSTART:20200308T090000
END:DAYLIGHT
BEGIN:STANDARD
TZOFFSETFROM:-0600
TZOFFSETTO:-0700
TZNAME:MST
DTSTART:20201101T080000
END:STANDARD
BEGIN:DAYLIGHT
TZOFFSETFROM:-0700
TZOFFSETTO:-0600
TZNAME:MDT
DTSTART:20210314T090000
END:DAYLIGHT
BEGIN:STANDARD
TZOFFSETFROM:-0600
TZOFFSETTO:-0700
TZNAME:MST
DTSTART:20211107T080000
END:STANDARD
BEGIN:DAYLIGHT
TZOFFSETFROM:-0700
TZOFFSETTO:-0600
TZNAME:MDT
DTSTART:20220313T090000
END:DAYLIGHT
BEGIN:STANDARD
TZOFFSETFROM:-0600
TZOFFSETTO:-0700
TZNAME:MST
DTSTART:20221106T080000
END:STANDARD
END:VTIMEZONE
BEGIN:VTIMEZONE
TZID:America/Los_Angeles
BEGIN:DAYLIGHT
TZOFFSETFROM:-0800
TZOFFSETTO:-0700
TZNAME:PDT
DTSTART:20170312T100000
END:DAYLIGHT
BEGIN:STANDARD
TZOFFSETFROM:-0700
TZOFFSETTO:-0800
TZNAME:PST
DTSTART:20171105T090000
END:STANDARD
BEGIN:DAYLIGHT
TZOFFSETFROM:-0800
TZOFFSETTO:-0700
TZNAME:PDT
DTSTART:20180311T100000
END:DAYLIGHT
BEGIN:STANDARD
TZOFFSETFROM:-0700
TZOFFSETTO:-0800
TZNAME:PST
DTSTART:20181104T090000
END:STANDARD
BEGIN:DAYLIGHT
TZOFFSETFROM:-0800
TZOFFSETTO:-0700
TZNAME:PDT
DTSTART:20190310T100000
END:DAYLIGHT
BEGIN:STANDARD
TZOFFSETFROM:-0700
TZOFFSETTO:-0800
TZNAME:PST
DTSTART:20191103T090000
END:STANDARD
END:VTIMEZONE
BEGIN:VEVENT
DTSTART;TZID=America/Phoenix:20230810T110000
DTEND;TZID=America/Phoenix:20230813T170000
DTSTAMP:20260423T091248
CREATED:20230723T225505Z
LAST-MODIFIED:20230726T124722Z
UID:110933-1691665200-1691946000@tiger-tiger.com
SUMMARY:Tiger Will  Be at the The Objects of Art Show in Santa Fe\, NM
DESCRIPTION:Come See the Show!\nTiger Tiger will be on the show floor Friday thru Sunday\, August 10th to the 13th\, from 11am until 5pm in Santa Fe\, New Mexico at The Objects of Art\, Santa Fe at El Museo Cultural de Santa Fe. Tiger will be displaying his finest wares\, from the Bob Burkett Vintage Collection\, to Ethnographic finds from Asia and the Himalayas. Learn more about the show right here. \nDon’t miss out!\nThis is a rare opportunity to find out and learn more about Ethnographic Art and Culture.  Tiger will be on hand at Booth C13 to answer any questions LIVE and In Person. His collections are well worth the viewing. If you haven’t seen them\, check out Tiger-Tiger.com. \nTiger Tiger has been a regular at this event for many years and is very excited to be present to meet with you once again. You can also look into Tiger Tiger Trips as well for more interesting items. \nTiger can be reached at the show at: 520-535-7955 \n  \nCost of entry \nEarly buyer on Thursday: 12 pm – 4 pm  : $200 \nThursday Night: 6 pm – 9 pm: $100 \nFriday-Sunday Pass: $30
URL:https://tiger-tiger.com/event/tiger-will-be-at-the-the-objects-of-art-show-in-santa-fe-nm/
LOCATION:El Museo Cultural de Santa Fe\, New Mexico\, 555 Camino de la Familia\, Santa Fe\, NM\, United States
CATEGORIES:Trade Shows
ATTACH;FMTTYPE=image/jpeg:https://tiger-tiger.com/wp-content/uploads/2021/07/event_tiger-show-booth_og-image.jpg
ORGANIZER;CN="Kim Martindale & John Morris":MAILTO:BLAKE@OBJECTSOFARTSHOWS.COM
END:VEVENT
BEGIN:VEVENT
DTSTART;VALUE=DATE:20220126
DTEND;VALUE=DATE:20220207
DTSTAMP:20260423T091248
CREATED:20220105T070036Z
LAST-MODIFIED:20220106T014957Z
UID:110126-1643155200-1644191999@tiger-tiger.com
SUMMARY:JOGS International Exhibits
DESCRIPTION:[vc_row][vc_column width=”1/2″][vc_column_text]This will be Tiger’s first year exhibiting at JOGS this year! \nAt this show we will be carrying ancient beads from Asia\, as well as artifacts. \nWe will also have amulets\, pendants\, jewelry and of course the Work of Robert Burkett![/vc_column_text][/vc_column][vc_column width=”1/2″][vc_column_text]We will be in booths N705-N-707 \nEntry is free to Wholesale buyers. \nRetail buyers pay $20 entry fee. \nCome enjoy Tiger’s noteworthy hospitality![/vc_column_text][/vc_column][/vc_row][vc_row][vc_column width=”1/2″][vc_single_image image=”109520″ img_size=”medium” alignment=”center” onclick=”link_image”][/vc_column][vc_column width=”1/2″][vc_single_image image=”110134″ img_size=”medium” alignment=”center” onclick=”link_image”][/vc_column][/vc_row]
URL:https://tiger-tiger.com/event/jogs-international-exhibits/
LOCATION:Tucson Expo Center\, 3750 East Irvington Rd\, Tucson\, AZ\, 85714\, United States
CATEGORIES:Bead Shows,Trade Shows,Wholesale Shows
ATTACH;FMTTYPE=image/jpeg:https://tiger-tiger.com/wp-content/uploads/2017/12/TGS2017_02OPT.jpg
ORGANIZER;CN="JOGS Gem & Jewelry Show":MAILTO:info@jogsshow.com
END:VEVENT
BEGIN:VEVENT
DTSTART;TZID=America/Denver:20210813T080000
DTEND;TZID=America/Denver:20210815T170000
DTSTAMP:20260423T091248
CREATED:20210704T050527Z
LAST-MODIFIED:20210711T200457Z
UID:109796-1628841600-1629046800@tiger-tiger.com
SUMMARY:Tiger Will Physically Be at the The Objects of Art Show in Santa Fe\, NM.
DESCRIPTION:Come See the Show!\nTiger Tiger will be on the show floor Friday thru Sunday\, August 13th to the 15th\, from 11am until 5pm in Santa Fe\, New Mexico at The Objects of Art\, Santa Fe at El Museo Cultural de Santa Fe. Tiger will be displaying his finest wares\, from the Bob Burkett Vintage Collection\, to Ethnographic finds from Asia and the Himalayas. Learn more about the show right here. \nDon’t miss out!\nThis is a rare opportunity to find out and learn more about Ethnographic Art and Culture.  Tiger will be on hand at Booth B57 to answer any questions LIVE and In Person. His collections are well worth the viewing. If you haven’t seen them\, check out Tiger-Tiger.com. \nTiger Tiger has been a regular at this event for many years and is very excited to be present to meet with you once again. You can also look into Tiger Tiger Trips as well for more interesting items. \nThere will also be a Virtual show coinciding with the Live Event. Tiger will be presenting there as well. \nGuide Lines\nCovid restrictions and rules will be observed at this event. To find out more\, visit their Information Page. \nPurchase Tickets Here. \n 
URL:https://tiger-tiger.com/event/tiger-will-physically-be-at-the-the-objects-of-art-show-in-santa-fe-nm/
LOCATION:El Museo Cultural de Santa Fe\, New Mexico\, 555 Camino de la Familia\, Santa Fe\, NM\, United States
CATEGORIES:Bead Shows,Tiger Tiger News,Trade Shows
ATTACH;FMTTYPE=image/jpeg:https://tiger-tiger.com/wp-content/uploads/2020/12/event_tucson-gem-show-2021.jpg
ORGANIZER;CN="Kim Martindale & John Morris":MAILTO:BLAKE@OBJECTSOFARTSHOWS.COM
END:VEVENT
BEGIN:VEVENT
DTSTART;VALUE=DATE:20210408
DTEND;VALUE=DATE:20210426
DTSTAMP:20260423T091248
CREATED:20210401T032610Z
LAST-MODIFIED:20210614T025915Z
UID:109483-1617840000-1619395199@tiger-tiger.com
SUMMARY:April: Tiger Tiger Beads\, Available by Appointment
DESCRIPTION:[vc_row][vc_column][vc_column_text]While some promoters are going on with shows this April\,\nTiger Tiger Beads does not consider it prudent to attend at this time. \nHowever\, we are in Tucson\, Az – and will be available by appointment only in a safe place.\nAll health protocols to be implemented. We have been vaccinated. \nWe will be available from: April 8th through April 25th. \nIn the event that you cannot make it\,\nwe will be offering free shipping on domestic orders.\nNote: Minimum order quantity amount of at least $40.[/vc_column_text][/vc_column][/vc_row][vc_row][vc_column][vc_separator][/vc_column][/vc_row][vc_row][vc_column][vc_column_text]You can use use the following coupons on the site: \nRetail Buyers: IDES_OF_APRIL_RETAIL \nWholesale Buyers: IDES_OF_APRIL_WS \nFor an appointment\, please call us at the office: +1-855-293-8894. \nWe will also be available at the following mobile number: +1-520-535-7955[/vc_column_text][/vc_column][/vc_row]
URL:https://tiger-tiger.com/event/tiger-tiger-available-by-appointment-only/
LOCATION:NM
CATEGORIES:Tiger Tiger News,Trade Shows
ATTACH;FMTTYPE=image/jpeg:https://tiger-tiger.com/wp-content/uploads/2021/03/event_trade-shows-april-2021.jpg
ORGANIZER;CN="Tiger Tiger":MAILTO:info@tiger-tiger.com
END:VEVENT
BEGIN:VEVENT
DTSTART;TZID=America/Phoenix:20210128T080000
DTEND;TZID=America/Phoenix:20210216T170000
DTSTAMP:20260423T091248
CREATED:20201226T020737Z
LAST-MODIFIED:20220106T012108Z
UID:105683-1611820800-1613494800@tiger-tiger.com
SUMMARY:Tucson Gem Show 2021
DESCRIPTION:The Tucson Gem Show\nCancelled due to COVID\nPostponed until April 2021\nTiger Tiger will be back next year \nHere are some possible future dates of shows:\nCONFIRMED NEW SHOW DATES:\n\nMineral Village Show (April 7 – 25\, 2021)\n22nd Street Show (April 8 – 25\, 2021)\nAfrican Art Village (April 8 – 26\, 2021)\nKino Gem & Mineral Show (April 8 – TBD\, 2021)\nPueblo Gem & Mineral Show (April 8 – 20\, 2021)\nJG&M Expo at Simpson Street (April 8 – 25\, 2021)\nJG&M Expo at Michigan Street (April 8 – 25\, 2021)\nMain Avenue Fossil & Mineral Show (April 8 – 25\, 2021)\n\n\nTucson Showplace (April 9 – 24\, 2021)\nMineral City Show (April 9 – 24\, 2021)\nGIGM Motel 6 Gem & Mineral Show (April 9 – 24\, 2021)\nGIGM Red Lion Gem & Mineral Show (April 9 – 24\, 2021)\nGIGM Quality Inn Gem & Mineral Show (April 9 – 24\, 2021)\nThe Big Gem Show (April 10 – 24\, 2021)\nG&LW Tucson Gem Show / Gem Mall (April 10 – 18\, 2021)\nG&LW Tucson Gem Show / Holidome (April 10 – 18\, 2021)\n\n\nMiners Co-op Rock Show (exact dates TBD)\nTop gem 1820 Oracle Show (exact dates TBD)\nMineral & Fossil Marketplace (exact dates TBD)\nArizona Independent Warehouse Show (exact dates TBD)\nJOGS Tucson Gem & Jewelry Show (exact dates TBD)
URL:https://tiger-tiger.com/event/tucson-gem-show-2020/
LOCATION:NM
CATEGORIES:Trade Shows
ATTACH;FMTTYPE=image/jpeg:https://tiger-tiger.com/wp-content/uploads/2020/12/event_tucson-gem-show-2021.jpg
END:VEVENT
BEGIN:VEVENT
DTSTART;VALUE=DATE:20200131
DTEND;VALUE=DATE:20200213
DTSTAMP:20260423T091248
CREATED:20191217T202959Z
LAST-MODIFIED:20220519T211126Z
UID:51700-1580428800-1581551999@tiger-tiger.com
SUMMARY:The Pueblo Gem & Mineral Show
DESCRIPTION:This will be Tiger’s first year exhibiting at Pueblo!  At this show we will be carrying ancient beads from Asia\, as well as artifacts.  We will also have amulets\, pendants\, jewelry and singing bowls! \n  \nWe will be in room #R-130 \n  \nAs usual\, there will be espresso on demand and Tiger’s noteworthy hospitality!
URL:https://tiger-tiger.com/event/the-pueblo-gem-mineral-show/
LOCATION:Ramada by Wyndham Tucson\, 777 W. Cushing St.\, Tucson\, AZ\, 87545\, United States
CATEGORIES:Bead Shows,Trade Shows,Wholesale Shows
ATTACH;FMTTYPE=image/jpeg:https://tiger-tiger.com/wp-content/uploads/2017/12/TGS2017_02OPT.jpg
ORGANIZER;CN="Pueblo Gem & Mineral Show":MAILTO:info@pueblogemshow.com
END:VEVENT
BEGIN:VEVENT
DTSTART;VALUE=DATE:20200130
DTEND;VALUE=DATE:20200217
DTSTAMP:20260423T091248
CREATED:20191214T152753Z
LAST-MODIFIED:20191217T214433Z
UID:51577-1580342400-1581897599@tiger-tiger.com
SUMMARY:22nd Street Mineral\, Fossil\, Gem & Jewelry Show
DESCRIPTION:Tiger  will be exhibiting in the 22nd Street tent this year! This venue will feature the work of Robert Burkett as well some other jewelry items. We will also be carrying lots of Tie Dye Clothing\, as well \n  \nWe will be in Booth number A38. \nCome say hi! \nOnsite parking is $3/day during the the week and $5 on weekends.
URL:https://tiger-tiger.com/event/22nd-street-mineral-fossil-gem-jewelry-show/
LOCATION:Tucson 22nd Street Mineral & Fossil Show\, 600 W 22nd Stree\, Tucson\, AZ\, 85701\, United States
CATEGORIES:Bead Shows,Trade Shows,Wholesale Shows
ATTACH;FMTTYPE=image/jpeg:https://tiger-tiger.com/wp-content/uploads/2019/12/22nd_ST_04.jpg
ORGANIZER;CN="Eons Expos%2C RLLP":MAILTO:sales@eonsexpos.com
END:VEVENT
BEGIN:VEVENT
DTSTART;TZID=America/Phoenix:20191115T100000
DTEND;TZID=America/Phoenix:20191117T180000
DTSTAMP:20260423T091248
CREATED:20191018T142125Z
LAST-MODIFIED:20220106T012120Z
UID:43925-1573812000-1574013600@tiger-tiger.com
SUMMARY:Marin Arts & Crafts Show
DESCRIPTION:Tiger will be in attending this show! See us in booth #151.  We will be showing the works of Robert Burket and a selection of ancient beads. Come see us for our first appearance in California in a while! \n 
URL:https://tiger-tiger.com/event/marin-arts-crafts-show/
LOCATION:Marin Center Box Office\, 10 Ave of the Flags\, San Raphael\, CA\, 94903\, United States
CATEGORIES:Bead Shows,Trade Shows
ORGANIZER;CN="Garan-Beadagio":MAILTO:info@beadanddesign.com
END:VEVENT
BEGIN:VEVENT
DTSTART;TZID=America/Phoenix:20190131T100000
DTEND;TZID=America/Phoenix:20190217T180000
DTSTAMP:20260423T091248
CREATED:20190109T220143Z
LAST-MODIFIED:20190109T220143Z
UID:30857-1548928800-1550426400@tiger-tiger.com
SUMMARY:Tucson 22nd Street Show
DESCRIPTION:Tiger  will be exhibiting in the 22nd Street tent this year! This venue will feature the work of Robert Burkett as well some other jewelry items. We will be in Booth number A36. \nCome say hi! \nOnsite parking is $3/day during the the week and $5 on weekends.
URL:https://tiger-tiger.com/event/tucson-22nd-street-show/
LOCATION:Tucson 22nd Street Mineral & Fossil Show\, 600 W 22nd Stree\, Tucson\, AZ\, 85701\, United States
CATEGORIES:Trade Shows
ORGANIZER;CN="Eons Expos%2C RLLP":MAILTO:sales@eonsexpos.com
END:VEVENT
BEGIN:VEVENT
DTSTART;TZID=America/Phoenix:20190131T100000
DTEND;TZID=America/Phoenix:20190212T180000
DTSTAMP:20260423T091248
CREATED:20171222T174312Z
LAST-MODIFIED:20190108T205205Z
UID:30543-1548928800-1549994400@tiger-tiger.com
SUMMARY:Gem & Jewelry Show on Grant
DESCRIPTION:This show will feature Tiger’s full range of great products!
URL:https://tiger-tiger.com/event/gem-jewelry-show-on-grant/
LOCATION:Grand Luxe Hotel-Resort\, 1365 W Grant Rd.\, Tucson\, AZ\, 85745\, United States
CATEGORIES:Bead Shows,Trade Shows,Wholesale Shows
ORGANIZER;CN="SRGJ Shows":MAILTO:SRGJshows@gmail.com
END:VEVENT
BEGIN:VEVENT
DTSTART;TZID=America/Denver:20180810T110000
DTEND;TZID=America/Denver:20180813T170000
DTSTAMP:20260423T091248
CREATED:20180503T213637Z
LAST-MODIFIED:20191008T021159Z
UID:30708-1533898800-1534179600@tiger-tiger.com
SUMMARY:OBJECTS OF ART SANTA FE 2018
DESCRIPTION:Tiger will be exhibiting at Objects of Art this year\, located at: El Museo Cultural de Santa Fe\n555 Camino de la Familia\, Santa Fe\, NM 87501 \nWe will be in Booth #B57 \n  \nThere will be a special Gala opening on Thursday the 9th\, from 6pm to 9pm.  Tickets to this opening are $50
URL:https://tiger-tiger.com/event/objects-of-art-santa-fe-2018/
LOCATION:El Museo Cultural de Santa Fe\, 555 Camino de la Familia \, Santa Fe\, NM\,  87501\, United States
CATEGORIES:Bead Shows,Trade Shows
ATTACH;FMTTYPE=image/jpeg:https://tiger-tiger.com/wp-content/uploads/Events/Santa_Fe_13_005.jpg
ORGANIZER;CN="Kim Martindale & John Morris":MAILTO:BLAKE@OBJECTSOFARTSHOWS.COM
END:VEVENT
BEGIN:VEVENT
DTSTART;VALUE=DATE:20180729
DTEND;VALUE=DATE:20180802
DTSTAMP:20260423T091248
CREATED:20180503T212524Z
LAST-MODIFIED:20180503T212524Z
UID:30704-1532822400-1533167999@tiger-tiger.com
SUMMARY:ASD Marketweek
DESCRIPTION:Tiger Will be attending this wholesale only show!  We will be featuring the Work and Designs of Robert Burkett at this show. \n  \nBooth Number TBA.
URL:https://tiger-tiger.com/event/asd-marketweek/
LOCATION:Las Vegas Convention Center\, 3150 Paradise Rd\, Las Vegas\, NV\, 89109\, United States
CATEGORIES:Trade Shows,Wholesale Shows
ATTACH;FMTTYPE=image/jpeg:https://tiger-tiger.com/wp-content/uploads/Events/TT_burkett_banner.jpg
ORGANIZER;CN="ASD Market Week":MAILTO:asdmar@experient-inc.com
END:VEVENT
BEGIN:VEVENT
DTSTART;VALUE=DATE:20180601
DTEND;VALUE=DATE:20180605
DTSTAMP:20260423T091248
CREATED:20180503T205836Z
LAST-MODIFIED:20180503T205836Z
UID:30677-1527811200-1528156799@tiger-tiger.com
SUMMARY:JCK Las Vegas
DESCRIPTION:Tiger Tiger will be exhibiting the works and designs of Robert Burkett in Sin City! \nWe will be located in the Bridge in Booth number B13189.
URL:https://tiger-tiger.com/event/jck-las-vegas-2/
LOCATION:Mandalay Bay Resort and Casino\, 3950 S. Las Vegas Blvd\, Las Vegas\, NV\, 89119\, United States
CATEGORIES:Trade Shows,Wholesale Shows
ATTACH;FMTTYPE=image/jpeg:https://tiger-tiger.com/wp-content/uploads/2018/05/TT_burkett_banner.jpg
ORGANIZER;CN="JCK Las Vegas":MAILTO:inquiry@reedjewelrygroup.com
END:VEVENT
BEGIN:VEVENT
DTSTART;TZID=America/Denver:20170917T110000
DTEND;TZID=America/Denver:20170917T170000
DTSTAMP:20260423T091248
CREATED:20170713T181500Z
LAST-MODIFIED:20170713T182521Z
UID:30415-1505646000-1505667600@tiger-tiger.com
SUMMARY:Intergem Show
DESCRIPTION:Tiger Tiger will be representing the work of Robert Burkett at this year’s Denver Gem Show! In addition to Bob’s work\, we will also have along some of the other oddments\, pendants and beads that we are know for!
URL:https://tiger-tiger.com/event/intergem-show-3/
LOCATION:NM
CATEGORIES:Bead Shows,Trade Shows,Wholesale Shows
END:VEVENT
BEGIN:VEVENT
DTSTART;TZID=America/Denver:20170916T100000
DTEND;TZID=America/Denver:20170916T180000
DTSTAMP:20260423T091248
CREATED:20170713T180844Z
LAST-MODIFIED:20170713T182338Z
UID:30412-1505556000-1505584800@tiger-tiger.com
SUMMARY:Intergem Show
DESCRIPTION:Tiger Tiger will be representing the work of Robert Burkett at this year’s Denver Gem Show! In addition to Bob’s work\, we will also have along some of the other oddments\, pendants and beads that we are know for!
URL:https://tiger-tiger.com/event/intergem-show-2/
LOCATION:Denver Mart\, 451 East 58th Avenue\, Denver\, CO\, 80216\, United States
CATEGORIES:Bead Shows,Trade Shows,Wholesale Shows
END:VEVENT
BEGIN:VEVENT
DTSTART;TZID=America/Phoenix:20170915T120000
DTEND;TZID=America/Phoenix:20170915T180000
DTSTAMP:20260423T091248
CREATED:20170712T195526Z
LAST-MODIFIED:20170713T182606Z
UID:30368-1505476800-1505498400@tiger-tiger.com
SUMMARY:Intergem Show
DESCRIPTION:
URL:https://tiger-tiger.com/event/intergem-show/
LOCATION:Denver Mart\, 451 East 58th Avenue\, Denver\, CO\, 80216\, United States
CATEGORIES:Bead Shows,Trade Shows,Wholesale Shows
END:VEVENT
BEGIN:VEVENT
DTSTART;TZID=America/Denver:20170810T180000
DTEND;TZID=America/Denver:20170810T210000
DTSTAMP:20260423T091248
CREATED:20170711T233000Z
LAST-MODIFIED:20170716T222955Z
UID:30355-1502388000-1502398800@tiger-tiger.com
SUMMARY:OBJECTS OF ART SANTA FE 2017-Special Opening
DESCRIPTION:Tiger will be exhibiting at Objects of Art this year\, located at: El Museo Cultural de Santa Fe\n555 Camino de la Familia\, Santa Fe\, NM 87501 \nWe will be in Booth #B57
URL:https://tiger-tiger.com/event/objects-of-art-santa-fe-2017/
LOCATION:El Museo Cultural de Santa Fe\, 555 Camino de la Familia \, Santa Fe\, NM\,  87501\, United States
CATEGORIES:Trade Shows
ATTACH;FMTTYPE=image/jpeg:https://tiger-tiger.com/wp-content/uploads/Events/Santa_Fe_13_005.jpg
ORGANIZER;CN="Kim Martindale & John Morris":MAILTO:BLAKE@OBJECTSOFARTSHOWS.COM
END:VEVENT
BEGIN:VEVENT
DTSTART;TZID=America/Phoenix:20170128T100000
DTEND;TZID=America/Phoenix:20170204T180000
DTSTAMP:20260423T091248
CREATED:20170121T212137Z
LAST-MODIFIED:20170305T003750Z
UID:29970-1485597600-1486231200@tiger-tiger.com
SUMMARY:To Bead True Blue - 2017
DESCRIPTION:Tiger Tiger in cooperation with Robert Burkett are excited to be exhibiting many new designs\, as well as a collection that he produced in the 1990’s\, while living in Santa Fe. \nThis is where you will find the work of Robert Burkett with lots cool stuff! Come and say hi to him! \nThe show is open from 10 am to 6 pm each day. Attendees may wish to Pre-Register on the Bead True Blue Website in advance.
URL:https://tiger-tiger.com/event/to-bead-true-blue-2017/
LOCATION:DoubleTree Hilton in Tucson at Reid Park\, 445 S. Alvernon Way\, Tucson\, AZ\, 85711\, United States
CATEGORIES:Bead Shows,Trade Shows
ATTACH;FMTTYPE=image/jpeg:https://tiger-tiger.com/wp-content/uploads/Events/header_true-blue-01.jpg
ORGANIZER;CN="Garan-Beadagio":MAILTO:info@beadanddesign.com
END:VEVENT
BEGIN:VEVENT
DTSTART;TZID=America/Phoenix:20170126T100000
DTEND;TZID=America/Phoenix:20170208T180000
DTSTAMP:20260423T091248
CREATED:20170121T222557Z
LAST-MODIFIED:20170121T222557Z
UID:30010-1485424800-1486576800@tiger-tiger.com
SUMMARY:Tucson Gem Show at Grand Luxe Hotel
DESCRIPTION:
URL:https://tiger-tiger.com/event/tucson-gem-show-at-grand-luxe-hotel/
LOCATION:Grand Luxe Hotel-Resort\, 1365 W Grant Rd.\, Tucson\, AZ\, 85745\, United States
CATEGORIES:Trade Shows
ORGANIZER;CN="SRGJ Shows":MAILTO:SRGJshows@gmail.com
END:VEVENT
BEGIN:VEVENT
DTSTART;VALUE=DATE:20160128
DTEND;VALUE=DATE:20160211
DTSTAMP:20260423T091248
CREATED:20151221T120130Z
LAST-MODIFIED:20170121T221620Z
UID:28234-1453939200-1455148799@tiger-tiger.com
SUMMARY:Gem and Jewlery Show in Tucson
DESCRIPTION:Gem and Jewlery Show on Grant \nCome see us at the Gem show in Tucson! It will be held at The Luxe Inn (formerly Grant Inn\, formerly Rodeway Inn) . \nTiger Tiger will be exhibiting in Room 161.
URL:https://tiger-tiger.com/event/gem-and-jewlery-show-on-grant/
LOCATION:Grand Luxe Hotel-Resort\, 1365 W Grant Rd.\, Tucson\, AZ\, 85745\, United States
CATEGORIES:Trade Shows,Wholesale Shows
ATTACH;FMTTYPE=image/jpeg:https://tiger-tiger.com/wp-content/uploads/Events/Tucson_Gem_Show.jpg
ORGANIZER;CN="SRGJ Shows":MAILTO:SRGJshows@gmail.com
END:VEVENT
END:VCALENDAR