BEGIN:VCALENDAR
VERSION:2.0
PRODID:-//Tiger Tiger - ECPv6.15.16//NONSGML v1.0//EN
CALSCALE:GREGORIAN
METHOD:PUBLISH
X-ORIGINAL-URL:https://tiger-tiger.com
X-WR-CALDESC:Events for Tiger Tiger
REFRESH-INTERVAL;VALUE=DURATION:PT1H
X-Robots-Tag:noindex
X-PUBLISHED-TTL:PT1H
BEGIN:VTIMEZONE
TZID:America/Los_Angeles
BEGIN:DAYLIGHT
TZOFFSETFROM:-0800
TZOFFSETTO:-0700
TZNAME:PDT
DTSTART:20200308T100000
END:DAYLIGHT
BEGIN:STANDARD
TZOFFSETFROM:-0700
TZOFFSETTO:-0800
TZNAME:PST
DTSTART:20201101T090000
END:STANDARD
BEGIN:DAYLIGHT
TZOFFSETFROM:-0800
TZOFFSETTO:-0700
TZNAME:PDT
DTSTART:20210314T100000
END:DAYLIGHT
BEGIN:STANDARD
TZOFFSETFROM:-0700
TZOFFSETTO:-0800
TZNAME:PST
DTSTART:20211107T090000
END:STANDARD
BEGIN:DAYLIGHT
TZOFFSETFROM:-0800
TZOFFSETTO:-0700
TZNAME:PDT
DTSTART:20220313T100000
END:DAYLIGHT
BEGIN:STANDARD
TZOFFSETFROM:-0700
TZOFFSETTO:-0800
TZNAME:PST
DTSTART:20221106T090000
END:STANDARD
END:VTIMEZONE
BEGIN:VEVENT
DTSTART;TZID=America/Los_Angeles:20210407T190000
DTEND;TZID=America/Los_Angeles:20210407T210000
DTSTAMP:20260423T104157
CREATED:20210401T032926Z
LAST-MODIFIED:20210614T030805Z
UID:109476-1617822000-1617829200@tiger-tiger.com
SUMMARY:Tiger Presents to the Bead Society of Los Angeles
DESCRIPTION:[vc_row][vc_column][vc_column_text]Next week Tiger Tiger Beads will give a virtual presentation to the Bead Society of Los Angeles. \nThe presentation will be available publicly via Zoom. \nMattew Brody will be speaking on Burmese peoples & migrations. \nThis will include the Pyu Peoples as well as the Chin (Pumtek Beads). \nI will also be speaking about dZi\, and of course the work of Robert Burkett. \nAt the end of the talk\, items will be available for purchase online. \nThe presentation is scheduled to begin at: 7 pm PST\, on Wednesday\, April 7th. \nInformation regarding the Zoom session is on both the Bead Society page\, as well as Tiger’s page![/vc_column_text][/vc_column][/vc_row][vc_row][vc_column width=”1/2″][vc_single_image image=”109507″ img_size=”medium” alignment=”center” onclick=”link_image”][/vc_column][vc_column width=”1/2″][vc_single_image image=”109520″ img_size=”medium” alignment=”center” onclick=”link_image”][/vc_column][/vc_row]
URL:https://tiger-tiger.com/event/tiger-to-present-to-the-bead-society-of-los-angeles/
LOCATION:Virtual Event via Zoom\, - Online Only\, United States
CATEGORIES:Bead Shows,Virtual Events
ATTACH;FMTTYPE=image/jpeg:https://tiger-tiger.com/wp-content/uploads/2021/03/event_bead-society-of-los-angeles.jpg
ORGANIZER;CN="Bead Society of Los Angeles":MAILTO:admin@beadsocietyla.org
END:VEVENT
END:VCALENDAR